BEGIN:VCALENDAR
VERSION:2.0
PRODID:-//wp-events-plugin.com//7.2.3.1//EN
TZID:America/New_York
X-WR-TIMEZONE:America/New_York
BEGIN:VEVENT
UID:0-9375@kolshalom.com
DTSTART;TZID=America/New_York:20260408T091500
DTEND;TZID=America/New_York:20260408T113000
DTSTAMP:20260305T182850Z
URL:https://www.kolshalom.com/events/passover-service-and-yizkor/
SUMMARY:Passover Service and Yizkor
DESCRIPTION:In-person and on Zoom.\n\nClick here to view the Yizkor book
ATTACH;FMTTYPE=image/jpeg:https://www.kolshalom.com/wp-content/uploads/202
 3/03/Happy-Passover-e1679682771839.png
CATEGORIES:Featured,Jewish Holidays
END:VEVENT
BEGIN:VTIMEZONE
TZID:America/New_York
X-LIC-LOCATION:America/New_York
BEGIN:DAYLIGHT
DTSTART:20260308T030000
TZOFFSETFROM:-0500
TZOFFSETTO:-0400
TZNAME:EDT
END:DAYLIGHT
END:VTIMEZONE
END:VCALENDAR