BEGIN:VCALENDAR
VERSION:2.0
PRODID:-//wp-events-plugin.com//7.2.3.1//EN
TZID:America/New_York
X-WR-TIMEZONE:America/New_York
BEGIN:VEVENT
UID:0-9143@kolshalom.com
DTSTART;TZID=America/New_York:20250318T183000
DTEND;TZID=America/New_York:20250318T183000
DTSTAMP:20250304T152231Z
URL:https://www.kolshalom.com/events/resiliency-roundtable-at-adas-israel/
SUMMARY:JSSA Resiliency Roundtable at Adas Israel
DESCRIPTION:Clinicians\, educators\, clergy\, youth leaders\, parents and c
 aregivers are welcome to join for learning\, enrichment and questions. Ple
 ase register in advance\, Questions? Contact Rabbi Rachel Hersh rhersh@jss
 a.org.\nTopic: Impact of Social Media on Teens\nTools and strategies for p
 arents and others working with children and younger adults.\n\nPresenter: 
 JSSA Director of Clinical Operations\, Alex Hammer\n\nRegister here
ATTACH;FMTTYPE=image/jpeg:https://www.kolshalom.com/wp-content/uploads/202
 5/03/resiliency-rountable-jssa-2-e1741100425266.png
CATEGORIES:Youth &amp; Family Programming
END:VEVENT
BEGIN:VTIMEZONE
TZID:America/New_York
X-LIC-LOCATION:America/New_York
BEGIN:DAYLIGHT
DTSTART:20250309T030000
TZOFFSETFROM:-0500
TZOFFSETTO:-0400
TZNAME:EDT
END:DAYLIGHT
END:VTIMEZONE
END:VCALENDAR