BEGIN:VCALENDAR
VERSION:2.0
PRODID:-//wp-events-plugin.com//7.2.3.1//EN
TZID:America/New_York
X-WR-TIMEZONE:America/New_York
BEGIN:VEVENT
UID:0-9144@kolshalom.com
DTSTART;TZID=America/New_York:20250321T120000
DTEND;TZID=America/New_York:20250321T130000
DTSTAMP:20250304T152253Z
URL:https://www.kolshalom.com/events/resiliency-roundtable-via-zoom/
SUMMARY:JSSA Resiliency Roundtable via Zoom
DESCRIPTION:Clinicians\, educators\, clergy\, youth leaders\, parents and c
 aregivers are welcome to join for learning\, enrichment and questions. Ple
 ase register in advance\, Questions? Contact Rabbi Rachel Hersh rhersh@jss
 a.org.\nTopic: Navigating Stress and Anxiety\nTools and techniques to mana
 ge intense emotions and nurture resilience.\n\nPresenter: Bonnie Zucker\, 
 Psy.D. with expertise in psychotherapy with children\, adolescents\, and a
 dults.\n\nRegister here to receive the Zoom link.\n\n&nbsp\;
ATTACH;FMTTYPE=image/jpeg:https://www.kolshalom.com/wp-content/uploads/202
 5/03/resiliency-rountable-jssa-2-e1741100425266.png
CATEGORIES:Youth &amp; Family Programming
END:VEVENT
BEGIN:VTIMEZONE
TZID:America/New_York
X-LIC-LOCATION:America/New_York
BEGIN:DAYLIGHT
DTSTART:20250309T030000
TZOFFSETFROM:-0500
TZOFFSETTO:-0400
TZNAME:EDT
END:DAYLIGHT
END:VTIMEZONE
END:VCALENDAR