BEGIN:VCALENDAR
VERSION:2.0
PRODID:-//wp-events-plugin.com//7.2.3.1//EN
TZID:America/New_York
X-WR-TIMEZONE:America/New_York
BEGIN:VEVENT
UID:0-9191@kolshalom.com
DTSTART;TZID=America/New_York:20250905T180000
DTEND;TZID=America/New_York:20250905T200000
DTSTAMP:20250806T160514Z
URL:https://www.kolshalom.com/events/young-famealies-shabbat-experience-2-
 2025-09-05/
SUMMARY:Young FaMEALies Shabbat Experience
DESCRIPTION:\n\n\nKol Shalom invites young families (with infants to 4th gr
 ade) for a Mini Shabbat Sing-a-long and Games\, led by Rabbi Fabián Werbi
 n and our new Gan Kol Shalom Director\, Carla Goldstein! Followed by Shabb
 at Dinner (on us!).\n\n\n\n\n\n\nRSVP Here\n\n\n
ATTACH;FMTTYPE=image/jpeg:https://www.kolshalom.com/wp-content/uploads/202
 4/07/Fabian-and-Sally.jpg
CATEGORIES:Youth &amp; Family Programming
END:VEVENT
BEGIN:VTIMEZONE
TZID:America/New_York
X-LIC-LOCATION:America/New_York
BEGIN:DAYLIGHT
DTSTART:20250309T030000
TZOFFSETFROM:-0500
TZOFFSETTO:-0400
TZNAME:EDT
END:DAYLIGHT
END:VTIMEZONE
END:VCALENDAR