BEGIN:VCALENDAR
VERSION:2.0
PRODID:-//wp-events-plugin.com//7.2.3.1//EN
TZID:America/New_York
X-WR-TIMEZONE:America/New_York
BEGIN:VEVENT
UID:0-9023@kolshalom.com
DTSTART;TZID=America/New_York:20250131T173000
DTEND;TZID=America/New_York:20250131T190000
DTSTAMP:20241223T212934Z
URL:https://www.kolshalom.com/events/young-famealies-shabbat-experience-20
 25-01-31/
SUMMARY:Young faMEALies Shabbat Experience
DESCRIPTION:Kol Shalom invites young families (with infants to 4th grade) f
 or a Mini Shabbat Sing-a-long and Games\, led by Rabbi Fabián Werbin and 
 Hazzan Sally Heckelman followed by Shabbat Dinner (on us!).\nClick here to
  register.
ATTACH;FMTTYPE=image/jpeg:https://www.kolshalom.com/wp-content/uploads/202
 4/07/Fabian-and-Sally.jpg
CATEGORIES:Featured,Youth &amp; Family Programming
END:VEVENT
BEGIN:VTIMEZONE
TZID:America/New_York
X-LIC-LOCATION:America/New_York
BEGIN:STANDARD
DTSTART:20241103T010000
TZOFFSETFROM:-0400
TZOFFSETTO:-0500
TZNAME:EST
END:STANDARD
END:VTIMEZONE
END:VCALENDAR